BEGIN:VCALENDAR
VERSION:2.0
PRODID:-//ALL London - ECPv6.15.20//NONSGML v1.0//EN
CALSCALE:GREGORIAN
METHOD:PUBLISH
X-ORIGINAL-URL:https://all-london.org.uk
X-WR-CALDESC:Events for ALL London
REFRESH-INTERVAL;VALUE=DURATION:PT1H
X-Robots-Tag:noindex
X-PUBLISHED-TTL:PT1H
BEGIN:VTIMEZONE
TZID:Europe/London
BEGIN:DAYLIGHT
TZOFFSETFROM:+0000
TZOFFSETTO:+0100
TZNAME:BST
DTSTART:20230326T010000
END:DAYLIGHT
BEGIN:STANDARD
TZOFFSETFROM:+0100
TZOFFSETTO:+0000
TZNAME:GMT
DTSTART:20231029T010000
END:STANDARD
BEGIN:DAYLIGHT
TZOFFSETFROM:+0000
TZOFFSETTO:+0100
TZNAME:BST
DTSTART:20240331T010000
END:DAYLIGHT
BEGIN:STANDARD
TZOFFSETFROM:+0100
TZOFFSETTO:+0000
TZNAME:GMT
DTSTART:20241027T010000
END:STANDARD
BEGIN:DAYLIGHT
TZOFFSETFROM:+0000
TZOFFSETTO:+0100
TZNAME:BST
DTSTART:20250330T010000
END:DAYLIGHT
BEGIN:STANDARD
TZOFFSETFROM:+0100
TZOFFSETTO:+0000
TZNAME:GMT
DTSTART:20251026T010000
END:STANDARD
END:VTIMEZONE
BEGIN:VEVENT
DTSTART;TZID=Europe/London:20240305T200000
DTEND;TZID=Europe/London:20240305T210000
DTSTAMP:20260420T135615
CREATED:20240229T175652Z
LAST-MODIFIED:20240229T180226Z
UID:4291-1709668800-1709672400@all-london.org.uk
SUMMARY:A Webinar with Mathilde Bouquin: Raising attainment at GCSE\, tackling the receptive skills
DESCRIPTION:We are very grateful to leaders in the Harris Federation who are willing to share their expertise with the wider community.  Teachers currently teaching Year 11 in particular will be keen to pick up ideas in the last push before exams! \nTo Register for part 1\, please follow this link to Ticket Tailor.
URL:https://all-london.org.uk/event/a-webinar-with-mathilde-bouquin-raising-attainment-at-gcse-tackling-the-receptive-skills/
LOCATION:Zoom
CATEGORIES:Event,Webinar
END:VEVENT
BEGIN:VEVENT
DTSTART;TZID=Europe/London:20240312T200000
DTEND;TZID=Europe/London:20240312T210000
DTSTAMP:20260420T135615
CREATED:20240302T152229Z
LAST-MODIFIED:20240302T152229Z
UID:4296-1710273600-1710277200@all-london.org.uk
SUMMARY:ALL Consultation briefing on the Advanced British Standard
DESCRIPTION:Please follow this link to Ticket Tailor to read more about the session and register.  Thank you.
URL:https://all-london.org.uk/event/all-consultation-briefing-on-the-advanced-british-standard/
LOCATION:Zoom
CATEGORIES:Event,Webinar
END:VEVENT
BEGIN:VEVENT
DTSTART;TZID=Europe/London:20240314T200000
DTEND;TZID=Europe/London:20240314T213000
DTSTAMP:20260420T135615
CREATED:20240229T180127Z
LAST-MODIFIED:20240229T180127Z
UID:4293-1710446400-1710451800@all-london.org.uk
SUMMARY:A Webinar with Julien Violette: Raising attainment at GCSE\, tackling the productive skills
DESCRIPTION:We are very grateful to leaders in the Harris Federation who are willing to share their expertise with the wider community.  Teachers currently teaching Year 11 in particular will be keen to pick up ideas in the last push before exams! \nTo Register for part 2\, please follow this link to Ticket Tailor
URL:https://all-london.org.uk/event/a-webinar-with-julien-violette-raising-attainment-at-gcse-tackling-the-productive-skills/
LOCATION:Zoom
CATEGORIES:Event,Webinar
END:VEVENT
END:VCALENDAR