BEGIN:VCALENDAR
VERSION:2.0
PRODID:-//ALL London - ECPv6.15.20//NONSGML v1.0//EN
CALSCALE:GREGORIAN
METHOD:PUBLISH
X-WR-CALNAME:ALL London
X-ORIGINAL-URL:https://all-london.org.uk
X-WR-CALDESC:Events for ALL London
REFRESH-INTERVAL;VALUE=DURATION:PT1H
X-Robots-Tag:noindex
X-PUBLISHED-TTL:PT1H
BEGIN:VTIMEZONE
TZID:Europe/London
BEGIN:DAYLIGHT
TZOFFSETFROM:+0000
TZOFFSETTO:+0100
TZNAME:BST
DTSTART:20220327T010000
END:DAYLIGHT
BEGIN:STANDARD
TZOFFSETFROM:+0100
TZOFFSETTO:+0000
TZNAME:GMT
DTSTART:20221030T010000
END:STANDARD
BEGIN:DAYLIGHT
TZOFFSETFROM:+0000
TZOFFSETTO:+0100
TZNAME:BST
DTSTART:20230326T010000
END:DAYLIGHT
BEGIN:STANDARD
TZOFFSETFROM:+0100
TZOFFSETTO:+0000
TZNAME:GMT
DTSTART:20231029T010000
END:STANDARD
BEGIN:DAYLIGHT
TZOFFSETFROM:+0000
TZOFFSETTO:+0100
TZNAME:BST
DTSTART:20240331T010000
END:DAYLIGHT
BEGIN:STANDARD
TZOFFSETFROM:+0100
TZOFFSETTO:+0000
TZNAME:GMT
DTSTART:20241027T010000
END:STANDARD
END:VTIMEZONE
BEGIN:VEVENT
DTSTART;TZID=Europe/London:20231019T200000
DTEND;TZID=Europe/London:20231019T204500
DTSTAMP:20260422T092629
CREATED:20231012T231134Z
LAST-MODIFIED:20231012T231337Z
UID:4129-1697745600-1697748300@all-london.org.uk
SUMMARY:A Webinar with Helen Myers: Getting to grips with the new GCSE
DESCRIPTION:Please follow this link to find out more and register for this free event. \nOr use the link below to register directly on Ticket Tailor:\n \n\n\nClick here to buy tickets\nSell tickets online with Ticket Tailor
URL:https://all-london.org.uk/event/a-webinar-with-helen-myers-getting-to-grips-with-the-new-gcse/
LOCATION:Zoom
CATEGORIES:Event,Webinar
END:VEVENT
END:VCALENDAR