BEGIN:VCALENDAR
VERSION:2.0
PRODID:-//ALL London - ECPv6.15.20//NONSGML v1.0//EN
CALSCALE:GREGORIAN
METHOD:PUBLISH
X-ORIGINAL-URL:https://all-london.org.uk
X-WR-CALDESC:Events for ALL London
REFRESH-INTERVAL;VALUE=DURATION:PT1H
X-Robots-Tag:noindex
X-PUBLISHED-TTL:PT1H
BEGIN:VTIMEZONE
TZID:Europe/London
BEGIN:DAYLIGHT
TZOFFSETFROM:+0000
TZOFFSETTO:+0100
TZNAME:BST
DTSTART:20220327T010000
END:DAYLIGHT
BEGIN:STANDARD
TZOFFSETFROM:+0100
TZOFFSETTO:+0000
TZNAME:GMT
DTSTART:20221030T010000
END:STANDARD
BEGIN:DAYLIGHT
TZOFFSETFROM:+0000
TZOFFSETTO:+0100
TZNAME:BST
DTSTART:20230326T010000
END:DAYLIGHT
BEGIN:STANDARD
TZOFFSETFROM:+0100
TZOFFSETTO:+0000
TZNAME:GMT
DTSTART:20231029T010000
END:STANDARD
BEGIN:DAYLIGHT
TZOFFSETFROM:+0000
TZOFFSETTO:+0100
TZNAME:BST
DTSTART:20240331T010000
END:DAYLIGHT
BEGIN:STANDARD
TZOFFSETFROM:+0100
TZOFFSETTO:+0000
TZNAME:GMT
DTSTART:20241027T010000
END:STANDARD
END:VTIMEZONE
BEGIN:VEVENT
DTSTART;TZID=Europe/London:20230706T180000
DTEND;TZID=Europe/London:20230706T190000
DTSTAMP:20260424T113241
CREATED:20220613T220218Z
LAST-MODIFIED:20220613T220218Z
UID:3816-1688666400-1688670000@all-london.org.uk
SUMMARY:
DESCRIPTION:
URL:https://all-london.org.uk/event/3816/
LOCATION:Zoom
CATEGORIES:Committee,Event,Webinar
END:VEVENT
BEGIN:VEVENT
DTSTART;TZID=Europe/London:20230712T200000
DTEND;TZID=Europe/London:20230712T213000
DTSTAMP:20260424T113241
CREATED:20230705T113603Z
LAST-MODIFIED:20230705T113603Z
UID:4092-1689192000-1689197400@all-london.org.uk
SUMMARY:A TiLT Webinar with Julia Morris: AI and me
DESCRIPTION:For session info and registration\, please follow this link to Eventbrite.  Thank you!
URL:https://all-london.org.uk/event/a-tilt-webinar-with-julia-morris-ai-and-me/
LOCATION:Zoom
CATEGORIES:Event,Webinar
END:VEVENT
END:VCALENDAR